BEGIN:VCALENDAR
VERSION:2.0
PRODID:-//Pakistan Down Syndrome Association (PDSA) - ECPv6.15.20//NONSGML v1.0//EN
CALSCALE:GREGORIAN
METHOD:PUBLISH
X-WR-CALNAME:Pakistan Down Syndrome Association (PDSA)
X-ORIGINAL-URL:https://pdsapakistan.org
X-WR-CALDESC:Events for Pakistan Down Syndrome Association (PDSA)
REFRESH-INTERVAL;VALUE=DURATION:PT1H
X-Robots-Tag:noindex
X-PUBLISHED-TTL:PT1H
BEGIN:VTIMEZONE
TZID:UTC
BEGIN:STANDARD
TZOFFSETFROM:+0000
TZOFFSETTO:+0000
TZNAME:UTC
DTSTART:20250101T000000
END:STANDARD
END:VTIMEZONE
BEGIN:VEVENT
DTSTART;VALUE=DATE:20260919
DTEND;VALUE=DATE:20260920
DTSTAMP:20260421T154244
CREATED:20200908T230219Z
LAST-MODIFIED:20250627T141051Z
UID:2053-1789776000-1789862399@pdsapakistan.org
SUMMARY:Inclusive Sports Festival
DESCRIPTION:A day dedicated to sports and fun\, where individuals with Down syndrome can participate in various athletic events\, promoting health\, teamwork\, and community engagement.
URL:https://pdsapakistan.org/event/use-hashtags-to-support-online-2/
LOCATION:The Corn Palace\, Mitchell\, 57301\, United States
CATEGORIES:Children
ORGANIZER;CN="Mr. Ed":MAILTO:neigh@gmail.com
END:VEVENT
END:VCALENDAR